BEGIN:VCALENDAR
VERSION:2.0
PRODID:-//Department Of Education//e51bd264-9286-43ed-ac53-bc87c2cbd710
BEGIN:VTIMEZONE
TZID:Australia/Sydney
TZURL:http://tzurl.org/zoneinfo-outlook/Australia/Sydney
X-LIC-LOCATION:Australia/Sydney
BEGIN:STANDARD
TZOFFSETFROM:+1100
TZOFFSETTO:+1000
TZNAME:AEST
DTSTART:19700405T030000
RRULE:FREQ=YEARLY;BYMONTH=4;BYDAY=1SU
END:STANDARD
BEGIN:DAYLIGHT
TZOFFSETFROM:+1000
TZOFFSETTO:+1100
TZNAME:AEDT
DTSTART:19701004T020000
RRULE:FREQ=YEARLY;BYMONTH=10;BYDAY=1SU
END:DAYLIGHT
END:VTIMEZONE
CALSCALE:GREGORIAN
X-WR-TIMEZONE:Australia/Sydney
BEGIN:VEVENT
DTSTART;VALUE=DATE:20210712
DTEND;VALUE=DATE:20210713
DTSTAMP:20210712T000000Z
UID:91e76fc0-1c48-4381-868f-20769bd4cdd8
LOCATION:Bangalow Public School
SUMMARY;LANGUAGE=en-us:Staff Development Day
SEQUENCE:0
DESCRIPTION:Staff attend the Term 3 Staff Development Day. Students do not attend school today.
END:VEVENT
TRANSP:TRANSPARENT
END:VCALENDAR
