BEGIN:VCALENDAR
VERSION:2.0
PRODID:-//Department Of Education//02cdb168-0640-495e-8c3c-2b2ce44bf460
BEGIN:VTIMEZONE
TZID:Australia/Sydney
TZURL:http://tzurl.org/zoneinfo-outlook/Australia/Sydney
X-LIC-LOCATION:Australia/Sydney
BEGIN:STANDARD
TZOFFSETFROM:+1100
TZOFFSETTO:+1000
TZNAME:AEST
DTSTART:19700405T030000
RRULE:FREQ=YEARLY;BYMONTH=4;BYDAY=1SU
END:STANDARD
BEGIN:DAYLIGHT
TZOFFSETFROM:+1000
TZOFFSETTO:+1100
TZNAME:AEDT
DTSTART:19701004T020000
RRULE:FREQ=YEARLY;BYMONTH=10;BYDAY=1SU
END:DAYLIGHT
END:VTIMEZONE
CALSCALE:GREGORIAN
X-WR-TIMEZONE:Australia/Sydney
BEGIN:VEVENT
DTSTART;VALUE=DATE:20210614
DTEND;VALUE=DATE:20210615
DTSTAMP:20210614T000000Z
UID:bf8eb2e3-6256-4d1b-9010-925edaa91ecf
LOCATION:Bangalow Public School
SUMMARY;LANGUAGE=en-us:Queen's Birthday Public Holiday
SEQUENCE:0
DESCRIPTION:Students and staff do not attend school today. Enjoy the long weekend.
END:VEVENT
TRANSP:TRANSPARENT
END:VCALENDAR
