BEGIN:VCALENDAR
VERSION:2.0
PRODID:-//Department Of Education//5920a9a3-e297-414d-9cb4-ed70d1c96594
BEGIN:VTIMEZONE
TZID:Australia/Sydney
TZURL:http://tzurl.org/zoneinfo-outlook/Australia/Sydney
X-LIC-LOCATION:Australia/Sydney
BEGIN:STANDARD
TZOFFSETFROM:+1100
TZOFFSETTO:+1000
TZNAME:AEST
DTSTART:19700405T030000
RRULE:FREQ=YEARLY;BYMONTH=4;BYDAY=1SU
END:STANDARD
BEGIN:DAYLIGHT
TZOFFSETFROM:+1000
TZOFFSETTO:+1100
TZNAME:AEDT
DTSTART:19701004T020000
RRULE:FREQ=YEARLY;BYMONTH=10;BYDAY=1SU
END:DAYLIGHT
END:VTIMEZONE
CALSCALE:GREGORIAN
X-WR-TIMEZONE:Australia/Sydney
BEGIN:VEVENT
DTSTART;VALUE=DATE:20210625
DTEND;VALUE=DATE:20210626
DTSTAMP:20210625T000000Z
UID:22ebd7a7-c70c-4fd5-9916-ca86218e714b
LOCATION:Bangalow Public School
SUMMARY;LANGUAGE=en-us:Last day Term 2
SEQUENCE:0
DESCRIPTION:Last day for students and staff. Enjoy the winter holidays and stay warm.
END:VEVENT
TRANSP:TRANSPARENT
END:VCALENDAR
