BEGIN:VCALENDAR
VERSION:2.0
PRODID:-//Department Of Education//33a63611-f92b-44ef-9a2a-6199826e60fb
BEGIN:VTIMEZONE
TZID:Australia/Sydney
TZURL:http://tzurl.org/zoneinfo-outlook/Australia/Sydney
X-LIC-LOCATION:Australia/Sydney
BEGIN:STANDARD
TZOFFSETFROM:+1100
TZOFFSETTO:+1000
TZNAME:AEST
DTSTART:19700405T030000
RRULE:FREQ=YEARLY;BYMONTH=4;BYDAY=1SU
END:STANDARD
BEGIN:DAYLIGHT
TZOFFSETFROM:+1000
TZOFFSETTO:+1100
TZNAME:AEDT
DTSTART:19701004T020000
RRULE:FREQ=YEARLY;BYMONTH=10;BYDAY=1SU
END:DAYLIGHT
END:VTIMEZONE
CALSCALE:GREGORIAN
X-WR-TIMEZONE:Australia/Sydney
BEGIN:VEVENT
DTSTART;VALUE=DATE:20210419
DTEND;VALUE=DATE:20210420
DTSTAMP:20210419T000000Z
UID:82bf733c-076f-41e8-ad24-2c3245903751
LOCATION:Bangalow Public School
SUMMARY;LANGUAGE=en-us:Staff Development Day
SEQUENCE:0
DESCRIPTION:Staff return for the Term 2 Staff Development Day. Students do not attend school today,
END:VEVENT
TRANSP:TRANSPARENT
END:VCALENDAR
