BEGIN:VCALENDAR
VERSION:2.0
PRODID:-//Department Of Education//5e7b8f75-adde-48a3-9654-a0c0f2682fb2
BEGIN:VTIMEZONE
TZID:Australia/Sydney
TZURL:http://tzurl.org/zoneinfo-outlook/Australia/Sydney
X-LIC-LOCATION:Australia/Sydney
BEGIN:STANDARD
TZOFFSETFROM:+1100
TZOFFSETTO:+1000
TZNAME:AEST
DTSTART:19700405T030000
RRULE:FREQ=YEARLY;BYMONTH=4;BYDAY=1SU
END:STANDARD
BEGIN:DAYLIGHT
TZOFFSETFROM:+1000
TZOFFSETTO:+1100
TZNAME:AEDT
DTSTART:19701004T020000
RRULE:FREQ=YEARLY;BYMONTH=10;BYDAY=1SU
END:DAYLIGHT
END:VTIMEZONE
CALSCALE:GREGORIAN
X-WR-TIMEZONE:Australia/Sydney
BEGIN:VEVENT
DTSTART;VALUE=DATE:20210401
DTEND;VALUE=DATE:20210402
DTSTAMP:20210401T000000Z
UID:ab9cb0da-e234-4b70-a50b-7a3acdf7716f
LOCATION:Bangalow Public School
SUMMARY;LANGUAGE=en-us:Last day Term 1 
SEQUENCE:0
DESCRIPTION:Last day for Term 1. Enjoy your holidays and stay safe.
END:VEVENT
TRANSP:TRANSPARENT
END:VCALENDAR
