BEGIN:VCALENDAR
VERSION:2.0
PRODID:-//Department Of Education//3ca98c9e-c1f5-44c9-a824-aca556adbf86
BEGIN:VTIMEZONE
TZID:Australia/Sydney
TZURL:http://tzurl.org/zoneinfo-outlook/Australia/Sydney
X-LIC-LOCATION:Australia/Sydney
BEGIN:STANDARD
TZOFFSETFROM:+1100
TZOFFSETTO:+1000
TZNAME:AEST
DTSTART:19700405T030000
RRULE:FREQ=YEARLY;BYMONTH=4;BYDAY=1SU
END:STANDARD
BEGIN:DAYLIGHT
TZOFFSETFROM:+1000
TZOFFSETTO:+1100
TZNAME:AEDT
DTSTART:19701004T020000
RRULE:FREQ=YEARLY;BYMONTH=10;BYDAY=1SU
END:DAYLIGHT
END:VTIMEZONE
CALSCALE:GREGORIAN
X-WR-TIMEZONE:Australia/Sydney
BEGIN:VEVENT
DTSTART;VALUE=DATE:20210420
DTEND;VALUE=DATE:20210421
DTSTAMP:20210420T000000Z
UID:6673134b-ce2b-44cf-a1aa-e1b7441ca184
LOCATION:Bangalow Public School
SUMMARY;LANGUAGE=en-us:First Day Term 2
SEQUENCE:0
DESCRIPTION:Welcome back. Students return to school today.
END:VEVENT
TRANSP:TRANSPARENT
END:VCALENDAR
